BEGIN:VCALENDAR
VERSION:2.0
PRODID:-//3RP Syria Crisis - ECPv6.2.5//NONSGML v1.0//EN
CALSCALE:GREGORIAN
METHOD:PUBLISH
X-WR-CALNAME:3RP Syria Crisis
X-ORIGINAL-URL:https://www.3rpsyriacrisis.org
X-WR-CALDESC:Events for 3RP Syria Crisis
REFRESH-INTERVAL;VALUE=DURATION:PT1H
X-Robots-Tag:noindex
X-PUBLISHED-TTL:PT1H
BEGIN:VTIMEZONE
TZID:UTC
BEGIN:STANDARD
TZOFFSETFROM:+0000
TZOFFSETTO:+0000
TZNAME:UTC
DTSTART:20230101T000000
END:STANDARD
END:VTIMEZONE
BEGIN:VEVENT
DTSTART;VALUE=DATE:20231015
DTEND;VALUE=DATE:20231101
DTSTAMP:20231103T222552
CREATED:20230326T111216Z
LAST-MODIFIED:20230326T140137Z
UID:31509-1697328000-1698796799@www.3rpsyriacrisis.org
SUMMARY:Meeting of the Regional Durable Solutions Working Group (RDSWG)
DESCRIPTION:
URL:https://www.3rpsyriacrisis.org/event/monthly-rdswg-meeting-4/
CATEGORIES:RDSWG
END:VEVENT
BEGIN:VEVENT
DTSTART;VALUE=DATE:20230808
DTEND;VALUE=DATE:20230809
DTSTAMP:20231103T222552
CREATED:20230326T111250Z
LAST-MODIFIED:20230717T110018Z
UID:31511-1691452800-1691539199@www.3rpsyriacrisis.org
SUMMARY:Meeting of the Regional Durable Solutions Working Group (RDSWG)
DESCRIPTION:
URL:https://www.3rpsyriacrisis.org/event/monthly-rdswg-meeting-5/
CATEGORIES:RDSWG
END:VEVENT
BEGIN:VEVENT
DTSTART;VALUE=DATE:20230615
DTEND;VALUE=DATE:20230701
DTSTAMP:20231103T222552
CREATED:20230326T111121Z
LAST-MODIFIED:20230326T140140Z
UID:31505-1686787200-1688169599@www.3rpsyriacrisis.org
SUMMARY:Meeting of the Regional Durable Solutions Working Group (RDSWG)
DESCRIPTION:
URL:https://www.3rpsyriacrisis.org/event/monthly-rdswg-meeting-2/
CATEGORIES:RDSWG
END:VEVENT
BEGIN:VEVENT
DTSTART;VALUE=DATE:20230415
DTEND;VALUE=DATE:20230501
DTSTAMP:20231103T222552
CREATED:20230326T111050Z
LAST-MODIFIED:20230326T140143Z
UID:31503-1681516800-1682899199@www.3rpsyriacrisis.org
SUMMARY:Meeting of the Regional Durable Solutions Working Group (RDSWG)
DESCRIPTION:
URL:https://www.3rpsyriacrisis.org/event/monthly-rdswg-meeting/
CATEGORIES:RDSWG
END:VEVENT
BEGIN:VEVENT
DTSTART;VALUE=DATE:20230101
DTEND;VALUE=DATE:20230501
DTSTAMP:20231103T222552
CREATED:20230326T110947Z
LAST-MODIFIED:20230326T140323Z
UID:31501-1672531200-1682899199@www.3rpsyriacrisis.org
SUMMARY:Development of Regional Resettlement and Complimentary Pathways Advocacy Messages
DESCRIPTION:
URL:https://www.3rpsyriacrisis.org/event/development-of-regional-resettlement-and-complimentary-pathways-advocacy-message-through-a-workstream/
CATEGORIES:RDSWG
END:VEVENT
END:VCALENDAR