BEGIN:VCALENDAR
VERSION:2.0
PRODID:-//3RP Syria Crisis - ECPv6.2.5//NONSGML v1.0//EN
CALSCALE:GREGORIAN
METHOD:PUBLISH
X-ORIGINAL-URL:https://www.3rpsyriacrisis.org
X-WR-CALDESC:Events for 3RP Syria Crisis
REFRESH-INTERVAL;VALUE=DURATION:PT1H
X-Robots-Tag:noindex
X-PUBLISHED-TTL:PT1H
BEGIN:VTIMEZONE
TZID:UTC
BEGIN:STANDARD
TZOFFSETFROM:+0000
TZOFFSETTO:+0000
TZNAME:UTC
DTSTART:20230101T000000
END:STANDARD
END:VTIMEZONE
BEGIN:VEVENT
DTSTART;VALUE=DATE:20230901
DTEND;VALUE=DATE:20230916
DTSTAMP:20231103T222053
CREATED:20230326T104502Z
LAST-MODIFIED:20230326T141107Z
UID:31447-1693526400-1694822399@www.3rpsyriacrisis.org
SUMMARY:External Newsletter: September 2023
DESCRIPTION:
URL:https://www.3rpsyriacrisis.org/event/external-newsletter-september-2023/
CATEGORIES:Advocacy
END:VEVENT
BEGIN:VEVENT
DTSTART;VALUE=DATE:20230701
DTEND;VALUE=DATE:20230716
DTSTAMP:20231103T222053
CREATED:20230326T104419Z
LAST-MODIFIED:20230326T135852Z
UID:31445-1688169600-1689465599@www.3rpsyriacrisis.org
SUMMARY:Release of External Newsletter: July 2023
DESCRIPTION:
URL:https://www.3rpsyriacrisis.org/event/external-newsletter-july-2023/
CATEGORIES:Advocacy
END:VEVENT
BEGIN:VEVENT
DTSTART;VALUE=DATE:20230501
DTEND;VALUE=DATE:20230516
DTSTAMP:20231103T222053
CREATED:20230326T104251Z
LAST-MODIFIED:20230326T133025Z
UID:31442-1682899200-1684195199@www.3rpsyriacrisis.org
SUMMARY:Release of External Newsletter: May 2023
DESCRIPTION:
URL:https://www.3rpsyriacrisis.org/event/external-newsletter-may2023/
CATEGORIES:Advocacy
END:VEVENT
BEGIN:VEVENT
DTSTART;VALUE=DATE:20230415
DTEND;VALUE=DATE:20230516
DTSTAMP:20231103T222053
CREATED:20230326T104037Z
LAST-MODIFIED:20230326T104129Z
UID:31438-1681516800-1684195199@www.3rpsyriacrisis.org
SUMMARY:Release: Annual Report 2022
DESCRIPTION:
URL:https://www.3rpsyriacrisis.org/event/annual-report-2022/
CATEGORIES:Advocacy
END:VEVENT
END:VCALENDAR