BEGIN:VCALENDAR
VERSION:2.0
PRODID:-//3RP Syria Crisis - ECPv6.2.5//NONSGML v1.0//EN
CALSCALE:GREGORIAN
METHOD:PUBLISH
X-WR-CALNAME:3RP Syria Crisis
X-ORIGINAL-URL:https://www.3rpsyriacrisis.org
X-WR-CALDESC:Events for 3RP Syria Crisis
REFRESH-INTERVAL;VALUE=DURATION:PT1H
X-Robots-Tag:noindex
X-PUBLISHED-TTL:PT1H
BEGIN:VTIMEZONE
TZID:UTC
BEGIN:STANDARD
TZOFFSETFROM:+0000
TZOFFSETTO:+0000
TZNAME:UTC
DTSTART:20230101T000000
END:STANDARD
END:VTIMEZONE
BEGIN:VEVENT
DTSTART;VALUE=DATE:20231101
DTEND;VALUE=DATE:20231116
DTSTAMP:20231103T222654
CREATED:20230326T104557Z
LAST-MODIFIED:20230326T133021Z
UID:31449-1698796800-1700092799@www.3rpsyriacrisis.org
SUMMARY:Release of External Newsletter: November 2023
DESCRIPTION:
URL:https://www.3rpsyriacrisis.org/event/external-newsletter-november-2023/
CATEGORIES:Advocacy
END:VEVENT
END:VCALENDAR